BEGIN:VCALENDAR
VERSION:2.0
PRODID:-//Dance Effects - ECPv4.9.6//NONSGML v1.0//EN
CALSCALE:GREGORIAN
METHOD:PUBLISH
X-WR-CALNAME:Dance Effects
X-ORIGINAL-URL:http://danceeffects.co.nz
X-WR-CALDESC:Events for Dance Effects
BEGIN:VTIMEZONE
TZID:"Pacific/Auckland"
BEGIN:STANDARD
TZOFFSETFROM:+1300
TZOFFSETTO:+1200
TZNAME:NZST
DTSTART:20170401T140000
END:STANDARD
BEGIN:DAYLIGHT
TZOFFSETFROM:+1200
TZOFFSETTO:+1300
TZNAME:NZDT
DTSTART:20170923T140000
END:DAYLIGHT
END:VTIMEZONE
BEGIN:VEVENT
DTSTART;VALUE=DATE:20170206
DTEND;VALUE=DATE:20170207
DTSTAMP:20210120T072508
CREATED:20170121T212134Z
LAST-MODIFIED:20170121T212134Z
UID:4726-1486339200-1486425599@danceeffects.co.nz
SUMMARY:Waitangi Day no classes
DESCRIPTION:
URL:http://danceeffects.co.nz/event/waitangi-day-no-classes/
LOCATION:DFX Studios\, 369 Te Rapa Road\, Hamilton\, Waikato\, 3200
END:VEVENT
END:VCALENDAR