BEGIN:VCALENDAR
VERSION:2.0
PRODID:-//Dance Effects - ECPv4.9.6//NONSGML v1.0//EN
CALSCALE:GREGORIAN
METHOD:PUBLISH
X-WR-CALNAME:Dance Effects
X-ORIGINAL-URL:http://danceeffects.co.nz
X-WR-CALDESC:Events for Dance Effects
BEGIN:VTIMEZONE
TZID:"Pacific/Auckland"
BEGIN:STANDARD
TZOFFSETFROM:+1300
TZOFFSETTO:+1200
TZNAME:NZST
DTSTART:20170401T140000
END:STANDARD
BEGIN:DAYLIGHT
TZOFFSETFROM:+1200
TZOFFSETTO:+1300
TZNAME:NZDT
DTSTART:20170923T140000
END:DAYLIGHT
END:VTIMEZONE
BEGIN:VEVENT
DTSTART;TZID="Pacific/Auckland":20170225T093000
DTEND;TZID="Pacific/Auckland":20170225T153000
DTSTAMP:20210120T072511
CREATED:20170121T212855Z
LAST-MODIFIED:20170121T212855Z
UID:4727-1488015000-1488036600@danceeffects.co.nz
SUMMARY:Phly Crew Dance Workshop - Intermediate and Advanced Dancers
DESCRIPTION: \n
URL:http://danceeffects.co.nz/event/phly-crew-dance-workshop-intermediate-and-advanced-dancers/
LOCATION:University of Waikato
END:VEVENT
END:VCALENDAR