BEGIN:VCALENDAR
VERSION:2.0
PRODID:-//Dance Effects - ECPv4.9.6//NONSGML v1.0//EN
CALSCALE:GREGORIAN
METHOD:PUBLISH
X-WR-CALNAME:Dance Effects
X-ORIGINAL-URL:http://danceeffects.co.nz
X-WR-CALDESC:Events for Dance Effects
BEGIN:VTIMEZONE
TZID:"Pacific/Auckland"
BEGIN:STANDARD
TZOFFSETFROM:+1300
TZOFFSETTO:+1200
TZNAME:NZST
DTSTART:20180331T140000
END:STANDARD
BEGIN:DAYLIGHT
TZOFFSETFROM:+1200
TZOFFSETTO:+1300
TZNAME:NZDT
DTSTART:20180929T140000
END:DAYLIGHT
END:VTIMEZONE
BEGIN:VEVENT
DTSTART;VALUE=DATE:20181201
DTEND;VALUE=DATE:20181203
DTSTAMP:20210120T072020
CREATED:20180226T011903Z
LAST-MODIFIED:20180319T022828Z
UID:5067-1543622400-1543795199@danceeffects.co.nz
SUMMARY:DFX Concert 1-2 December 2018
DESCRIPTION:At Claudelands Arena\, Hamilton \n2 Shows;\nSaturday 1st December 7:00pm\nSunday 2nd December 2:00pm (prizegiving follows Sunday show) \n
URL:http://danceeffects.co.nz/event/dfx-concert-1-2-december-2018/
END:VEVENT
END:VCALENDAR